BEGIN:VCALENDAR
VERSION:2.0
PRODID:-//Lakeshore Chamber of Commerce | Hammond &amp; East Chicago - ECPv6.15.20//NONSGML v1.0//EN
CALSCALE:GREGORIAN
METHOD:PUBLISH
X-WR-CALNAME:Lakeshore Chamber of Commerce | Hammond &amp; East Chicago
X-ORIGINAL-URL:https://lakeshorechamber.com
X-WR-CALDESC:Events for Lakeshore Chamber of Commerce | Hammond &amp; East Chicago
REFRESH-INTERVAL;VALUE=DURATION:PT1H
X-Robots-Tag:noindex
X-PUBLISHED-TTL:PT1H
BEGIN:VTIMEZONE
TZID:UTC
BEGIN:STANDARD
TZOFFSETFROM:+0000
TZOFFSETTO:+0000
TZNAME:UTC
DTSTART:20250101T000000
END:STANDARD
END:VTIMEZONE
BEGIN:VEVENT
DTSTART;TZID=UTC:20260119T063000
DTEND;TZID=UTC:20260119T090000
DTSTAMP:20260420T092503
CREATED:20251208T195849Z
LAST-MODIFIED:20251208T195849Z
UID:2907-1768804200-1768813200@lakeshorechamber.com
SUMMARY:Fighting for the Dream
DESCRIPTION:If you are interested in setting up a display table at the Annual Dr. Martin Luther King\, Jr. Celebration\nplease complete the form and return it to Darrell White\, whited@gohammond.com by Friday\, January 9\, 2026.
URL:https://lakeshorechamber.com/events/fighting-for-the-dream/
LOCATION:MLK Freedom Plaza\, Tapper Avenue\, Hammond\, IN\, 46320\, United States
END:VEVENT
BEGIN:VEVENT
DTSTART;TZID=UTC:20260122T160000
DTEND;TZID=UTC:20260122T183000
DTSTAMP:20260420T092503
CREATED:20251205T214219Z
LAST-MODIFIED:20251205T214219Z
UID:2895-1769097600-1769106600@lakeshorechamber.com
SUMMARY:Tradewinds Business After Hours
DESCRIPTION:Please RSVP by January 15\, 2026
URL:https://lakeshorechamber.com/events/tradewinds-business-after-hours/
LOCATION:Horseshoe Casino Hammond\, 777 Casino Center Drive\, Hammond\, IN\, 46320\, United States
END:VEVENT
BEGIN:VEVENT
DTSTART;TZID=UTC:20260129T110000
DTEND;TZID=UTC:20260129T133000
DTSTAMP:20260420T092503
CREATED:20251216T174214Z
LAST-MODIFIED:20260102T191647Z
UID:2922-1769684400-1769693400@lakeshorechamber.com
SUMMARY:State of the City~Hammond- Luncheon\, Networking & Presentation
DESCRIPTION:Registration is required by January 23\, 2026
URL:https://lakeshorechamber.com/events/state-of-the-cityhammond-luncheon-networking-presentation/
LOCATION:Hammond Sportsplex\, 6630 Indianapolis Blvd\, Hammond\, 46320\, United States
END:VEVENT
END:VCALENDAR