BEGIN:VCALENDAR
VERSION:2.0
PRODID:-//Lakeshore Chamber of Commerce | Hammond &amp; East Chicago - ECPv6.15.20//NONSGML v1.0//EN
CALSCALE:GREGORIAN
METHOD:PUBLISH
X-ORIGINAL-URL:https://lakeshorechamber.com
X-WR-CALDESC:Events for Lakeshore Chamber of Commerce | Hammond &amp; East Chicago
REFRESH-INTERVAL;VALUE=DURATION:PT1H
X-Robots-Tag:noindex
X-PUBLISHED-TTL:PT1H
BEGIN:VTIMEZONE
TZID:UTC
BEGIN:STANDARD
TZOFFSETFROM:+0000
TZOFFSETTO:+0000
TZNAME:UTC
DTSTART:20240101T000000
END:STANDARD
END:VTIMEZONE
BEGIN:VEVENT
DTSTART;TZID=UTC:20250408T080000
DTEND;TZID=UTC:20250408T093000
DTSTAMP:20260421T011020
CREATED:20250318T200529Z
LAST-MODIFIED:20250318T200934Z
UID:2349-1744099200-1744104600@lakeshorechamber.com
SUMMARY:Coffee & Commerce @ Ixxa Coffee
DESCRIPTION:
URL:https://lakeshorechamber.com/events/2349/
END:VEVENT
BEGIN:VEVENT
DTSTART;VALUE=DATE:20250418
DTEND;VALUE=DATE:20250419
DTSTAMP:20260421T011020
CREATED:20250417T144231Z
LAST-MODIFIED:20250417T144231Z
UID:2408-1744934400-1745020799@lakeshorechamber.com
SUMMARY:Good Friday ~ Office Closed
DESCRIPTION:
URL:https://lakeshorechamber.com/events/good-friday-office-closed/
END:VEVENT
END:VCALENDAR