BEGIN:VCALENDAR
VERSION:2.0
PRODID:-//Lakeshore Chamber of Commerce | Hammond &amp; East Chicago - ECPv6.15.20//NONSGML v1.0//EN
CALSCALE:GREGORIAN
METHOD:PUBLISH
X-WR-CALNAME:Lakeshore Chamber of Commerce | Hammond &amp; East Chicago
X-ORIGINAL-URL:https://lakeshorechamber.com
X-WR-CALDESC:Events for Lakeshore Chamber of Commerce | Hammond &amp; East Chicago
REFRESH-INTERVAL;VALUE=DURATION:PT1H
X-Robots-Tag:noindex
X-PUBLISHED-TTL:PT1H
BEGIN:VTIMEZONE
TZID:UTC
BEGIN:STANDARD
TZOFFSETFROM:+0000
TZOFFSETTO:+0000
TZNAME:UTC
DTSTART:20240101T000000
END:STANDARD
END:VTIMEZONE
BEGIN:VEVENT
DTSTART;TZID=UTC:20250206T170000
DTEND;TZID=UTC:20250206T190000
DTSTAMP:20260421T044446
CREATED:20241115T162924Z
LAST-MODIFIED:20241204T150803Z
UID:1829-1738861200-1738868400@lakeshorechamber.com
SUMMARY:After Hours: Silver Birch Hosting - Wine & Paint
DESCRIPTION:
URL:https://lakeshorechamber.com/events/after-hours-silver-birch-hosting-wine-paint/
LOCATION:Silver Birch of Hammond\, 5620 Sohl Avenue\, Hammond\, IN\, 46324\, United States
END:VEVENT
BEGIN:VEVENT
DTSTART;TZID=UTC:20250220T170000
DTEND;TZID=UTC:20250220T220000
DTSTAMP:20260421T044446
CREATED:20241119T194132Z
LAST-MODIFIED:20250203T195104Z
UID:1839-1740070800-1740088800@lakeshorechamber.com
SUMMARY:Night of Stars-Annual Member Dinner-Thursday\, February 20 2025!
DESCRIPTION:We are excited to return to Horseshoe Casino for our Annual Dinner – join us –\nFebruary 20\, 2025 for a Night of Stars!\n~RSVP by January 30 please~ \nMust be 21 to enter. \n \n \n \nSPECIAL THANK YOU TO OUR SPONSORS:
URL:https://lakeshorechamber.com/events/annualdinner2025/
LOCATION:Horseshoe Casino\, 777 Casino Center Drive\, Hammond\, IN\, 46320\, United States
ORGANIZER;CN="Lakeshore Chamber":MAILTO:lcc@lakeshorechamber.com
END:VEVENT
END:VCALENDAR