BEGIN:VCALENDAR
VERSION:2.0
PRODID:-//Lakeshore Chamber of Commerce | Hammond &amp; East Chicago - ECPv6.15.20//NONSGML v1.0//EN
CALSCALE:GREGORIAN
METHOD:PUBLISH
X-WR-CALNAME:Lakeshore Chamber of Commerce | Hammond &amp; East Chicago
X-ORIGINAL-URL:https://lakeshorechamber.com
X-WR-CALDESC:Events for Lakeshore Chamber of Commerce | Hammond &amp; East Chicago
REFRESH-INTERVAL;VALUE=DURATION:PT1H
X-Robots-Tag:noindex
X-PUBLISHED-TTL:PT1H
BEGIN:VTIMEZONE
TZID:UTC
BEGIN:STANDARD
TZOFFSETFROM:+0000
TZOFFSETTO:+0000
TZNAME:UTC
DTSTART:20230101T000000
END:STANDARD
END:VTIMEZONE
BEGIN:VEVENT
DTSTART;VALUE=DATE:20240115
DTEND;VALUE=DATE:20240116
DTSTAMP:20260420T184151
CREATED:20240322T194956Z
LAST-MODIFIED:20240322T195326Z
UID:695-1705276800-1705363199@lakeshorechamber.com
SUMMARY:Martin Luther King Day
DESCRIPTION:
URL:https://lakeshorechamber.com/events/martin-luther-king-day/
LOCATION:Lakeshore Chamber of Commerce\, 7120 Indianapolis Blvd.\, Hammond\, IN\, 46324\, United States
CATEGORIES:All Events,Office Closures
END:VEVENT
END:VCALENDAR