BEGIN:VCALENDAR
VERSION:2.0
PRODID:-//Lakeshore Chamber of Commerce | Hammond &amp; East Chicago - ECPv6.15.20//NONSGML v1.0//EN
CALSCALE:GREGORIAN
METHOD:PUBLISH
X-WR-CALNAME:Lakeshore Chamber of Commerce | Hammond &amp; East Chicago
X-ORIGINAL-URL:https://lakeshorechamber.com
X-WR-CALDESC:Events for Lakeshore Chamber of Commerce | Hammond &amp; East Chicago
REFRESH-INTERVAL;VALUE=DURATION:PT1H
X-Robots-Tag:noindex
X-PUBLISHED-TTL:PT1H
BEGIN:VTIMEZONE
TZID:UTC
BEGIN:STANDARD
TZOFFSETFROM:+0000
TZOFFSETTO:+0000
TZNAME:UTC
DTSTART:20240101T000000
END:STANDARD
END:VTIMEZONE
BEGIN:VEVENT
DTSTART;TZID=UTC:20250408T080000
DTEND;TZID=UTC:20250408T093000
DTSTAMP:20260421T044625
CREATED:20250318T200529Z
LAST-MODIFIED:20250318T200934Z
UID:2349-1744099200-1744104600@lakeshorechamber.com
SUMMARY:Coffee & Commerce @ Ixxa Coffee
DESCRIPTION:
URL:https://lakeshorechamber.com/events/2349/
END:VEVENT
BEGIN:VEVENT
DTSTART;VALUE=DATE:20250418
DTEND;VALUE=DATE:20250419
DTSTAMP:20260421T044625
CREATED:20250417T144231Z
LAST-MODIFIED:20250417T144231Z
UID:2408-1744934400-1745020799@lakeshorechamber.com
SUMMARY:Good Friday ~ Office Closed
DESCRIPTION:
URL:https://lakeshorechamber.com/events/good-friday-office-closed/
END:VEVENT
BEGIN:VEVENT
DTSTART;TZID=UTC:20250513T080000
DTEND;TZID=UTC:20250513T093000
DTSTAMP:20260421T044625
CREATED:20250318T201521Z
LAST-MODIFIED:20250318T201521Z
UID:2353-1747123200-1747128600@lakeshorechamber.com
SUMMARY:Coffee & Commerce @ Ixxa Coffee
DESCRIPTION:
URL:https://lakeshorechamber.com/events/coffee-commerce-ixxa-coffee/
END:VEVENT
BEGIN:VEVENT
DTSTART;TZID=UTC:20250604T160000
DTEND;TZID=UTC:20250604T190000
DTSTAMP:20260421T044625
CREATED:20250516T001207Z
LAST-MODIFIED:20250603T145201Z
UID:2421-1749052800-1749063600@lakeshorechamber.com
SUMMARY:Indiana & Illinois Manufacturing Networking
DESCRIPTION:   REGISTRATION  IS  CLOSED FOR  THIS  EVENT.
URL:https://lakeshorechamber.com/events/indiana-illinois-manufacturing-networking/
LOCATION:Emerald Green at Lost Marsh Golf Course\, 1001 129th St\, Hammond\, IN\, 46320\, United States
END:VEVENT
BEGIN:VEVENT
DTSTART;TZID=UTC:20250610T080000
DTEND;TZID=UTC:20250610T093000
DTSTAMP:20260421T044625
CREATED:20250318T201616Z
LAST-MODIFIED:20250318T202510Z
UID:2355-1749542400-1749547800@lakeshorechamber.com
SUMMARY:Coffee & Commerce @ Ixxa Coffee
DESCRIPTION:
URL:https://lakeshorechamber.com/events/coffee-commerce-ixxa-coffee-2/
END:VEVENT
BEGIN:VEVENT
DTSTART;TZID=UTC:20250625T080000
DTEND;TZID=UTC:20250625T170000
DTSTAMP:20260421T044625
CREATED:20240722T192630Z
LAST-MODIFIED:20250609T134214Z
UID:1229-1750838400-1750870800@lakeshorechamber.com
SUMMARY:2025 Lakeshore Chamber 29th Annual Classic Golf!
DESCRIPTION:
URL:https://lakeshorechamber.com/events/lakeshore-chamber-29th-annual-classic-golf-2025/
LOCATION:Emerald Green at Lost Marsh Golf Course\, 1001 129th St\, Hammond\, IN\, 46320\, United States
ORGANIZER;CN="Lakeshore Chamber":MAILTO:lcc@lakeshorechamber.com
END:VEVENT
BEGIN:VEVENT
DTSTART;TZID=UTC:20250910T110000
DTEND;TZID=UTC:20250910T133000
DTSTAMP:20260421T044625
CREATED:20250903T180852Z
LAST-MODIFIED:20250903T180852Z
UID:2733-1757502000-1757511000@lakeshorechamber.com
SUMMARY:Hernandez General Contractor ~ Grand Opening Sept 10th
DESCRIPTION:Preview (opens in a new tab) \n  \n11:00 Networking\n11:30 Ribbon Cutting Ceremony\n12:00 Complimentary Lunch ~ Flako’s Express (Food Tickets will be provided)\n1:00   Raffle
URL:https://lakeshorechamber.com/events/hernandez-general-contractor-grand-opening-sept-10th/
LOCATION:Hernandez General Contractor\, 7350 Calumet Avene\, Hammond\, 46324
END:VEVENT
BEGIN:VEVENT
DTSTART;TZID=UTC:20250918T110000
DTEND;TZID=UTC:20250918T150000
DTSTAMP:20260421T044625
CREATED:20250911T150910Z
LAST-MODIFIED:20250911T150910Z
UID:2768-1758193200-1758207600@lakeshorechamber.com
SUMMARY:Hammond Job Fair
DESCRIPTION:
URL:https://lakeshorechamber.com/events/hammond-job-fair/
LOCATION:Hammond Civic Center\, 5825 Sohl Avenue\, Hammond\, IN\, 46320\, United States
END:VEVENT
BEGIN:VEVENT
DTSTART;TZID=UTC:20251002T110000
DTEND;TZID=UTC:20251002T130000
DTSTAMP:20260421T044625
CREATED:20250925T184222Z
LAST-MODIFIED:20250925T184222Z
UID:2814-1759402800-1759410000@lakeshorechamber.com
SUMMARY:Ivan's Roofing Ribbon Cutting ~ Oct 2nd
DESCRIPTION:
URL:https://lakeshorechamber.com/events/ivans-roofing-ribbon-cutting-oct-2nd/
LOCATION:Ivan’s Roofing\, 7325 Kennedy Avenue\, Hammond\, 46323\, United States
END:VEVENT
BEGIN:VEVENT
DTSTART;TZID=UTC:20251008T100000
DTEND;TZID=UTC:20251008T190000
DTSTAMP:20260421T044625
CREATED:20251007T182043Z
LAST-MODIFIED:20251007T182043Z
UID:2834-1759917600-1759950000@lakeshorechamber.com
SUMMARY:Cabela's National Hiring Event
DESCRIPTION:
URL:https://lakeshorechamber.com/events/cabelas-national-hiring-event/
END:VEVENT
BEGIN:VEVENT
DTSTART;TZID=UTC:20251009T150000
DTEND;TZID=UTC:20251009T190000
DTSTAMP:20260421T044625
CREATED:20250909T190408Z
LAST-MODIFIED:20251007T180413Z
UID:2743-1760022000-1760036400@lakeshorechamber.com
SUMMARY:Lakeshore Live and Celebrity Game Show
DESCRIPTION:All tables are sold out!   \n\n\nEVENT SCHEDULE\n3:00- 5:00 Community Fest /Expo\n3:00- 6:00 Food Truck and Cash bar open\n5:00- 6:00 Celebrity Game Show\n6:00- 7:00 Networking
URL:https://lakeshorechamber.com/events/lakeshore-live-and-celebrity-game-show/
LOCATION:lake county convention & visitors authority\, 7770 Corinne Drive\, Hammond\, 46323\, United States
END:VEVENT
BEGIN:VEVENT
DTSTART;TZID=UTC:20251018T180000
DTEND;TZID=UTC:20251018T220000
DTSTAMP:20260421T044625
CREATED:20250911T154041Z
LAST-MODIFIED:20250911T154041Z
UID:2778-1760810400-1760824800@lakeshorechamber.com
SUMMARY:Scaring is Caring Festival
DESCRIPTION:
URL:https://lakeshorechamber.com/events/scaring-is-caring-festival/
LOCATION:Club KI-Yowga Inc\, 5220 Indianapolis Blvd\, East Chicago\, 46312\, United States
END:VEVENT
BEGIN:VEVENT
DTSTART;TZID=UTC:20251030T080000
DTEND;TZID=UTC:20251030T113000
DTSTAMP:20260421T044625
CREATED:20250918T155118Z
LAST-MODIFIED:20250918T155118Z
UID:2801-1761811200-1761823800@lakeshorechamber.com
SUMMARY:2025 Ethics Summit
DESCRIPTION:Please RSVP by Friday\, October 17th
URL:https://lakeshorechamber.com/events/2025-ethics-summit/
LOCATION:Avalon Manor\, 3555 U.S. 30\, Merrillville\, 46410\, United States
END:VEVENT
BEGIN:VEVENT
DTSTART;VALUE=DATE:20251127
DTEND;VALUE=DATE:20251128
DTSTAMP:20260421T044625
CREATED:20251126T220716Z
LAST-MODIFIED:20251126T220716Z
UID:2846-1764201600-1764287999@lakeshorechamber.com
SUMMARY:Happy Thanksgiving!
DESCRIPTION:The Lakeshore Chamber office will be closed Nov 27th and Nov 28th 
URL:https://lakeshorechamber.com/events/happy-thanksgiving/
END:VEVENT
BEGIN:VEVENT
DTSTART;TZID=UTC:20251206T100000
DTEND;TZID=UTC:20251206T100000
DTSTAMP:20260421T044625
CREATED:20251125T203606Z
LAST-MODIFIED:20251125T203606Z
UID:2842-1765015200-1765015200@lakeshorechamber.com
SUMMARY:Hammond Holiday Parade
DESCRIPTION:Parade begins at 10am at Gavit High School\nand ends at the Hammond Sportsplex
URL:https://lakeshorechamber.com/events/hammond-holiday-parade/
END:VEVENT
BEGIN:VEVENT
DTSTART;TZID=UTC:20251217T160000
DTEND;TZID=UTC:20251217T190000
DTSTAMP:20260421T044625
CREATED:20251211T181642Z
LAST-MODIFIED:20251212T154248Z
UID:2912-1765987200-1765998000@lakeshorechamber.com
SUMMARY:Business After Hours ~ Holiday Networking
DESCRIPTION:  \nPlease RSVP by December 12th!
URL:https://lakeshorechamber.com/events/business-after-hours-holiday-networking/
LOCATION:EAT\, 5201 Hohman Avenue\, Hammond\, 46320\, United States
END:VEVENT
BEGIN:VEVENT
DTSTART;TZID=UTC:20260119T063000
DTEND;TZID=UTC:20260119T090000
DTSTAMP:20260421T044625
CREATED:20251208T195849Z
LAST-MODIFIED:20251208T195849Z
UID:2907-1768804200-1768813200@lakeshorechamber.com
SUMMARY:Fighting for the Dream
DESCRIPTION:If you are interested in setting up a display table at the Annual Dr. Martin Luther King\, Jr. Celebration\nplease complete the form and return it to Darrell White\, whited@gohammond.com by Friday\, January 9\, 2026.
URL:https://lakeshorechamber.com/events/fighting-for-the-dream/
LOCATION:MLK Freedom Plaza\, Tapper Avenue\, Hammond\, IN\, 46320\, United States
END:VEVENT
BEGIN:VEVENT
DTSTART;TZID=UTC:20260122T160000
DTEND;TZID=UTC:20260122T183000
DTSTAMP:20260421T044625
CREATED:20251205T214219Z
LAST-MODIFIED:20251205T214219Z
UID:2895-1769097600-1769106600@lakeshorechamber.com
SUMMARY:Tradewinds Business After Hours
DESCRIPTION:Please RSVP by January 15\, 2026
URL:https://lakeshorechamber.com/events/tradewinds-business-after-hours/
LOCATION:Horseshoe Casino Hammond\, 777 Casino Center Drive\, Hammond\, IN\, 46320\, United States
END:VEVENT
BEGIN:VEVENT
DTSTART;TZID=UTC:20260129T110000
DTEND;TZID=UTC:20260129T133000
DTSTAMP:20260421T044625
CREATED:20251216T174214Z
LAST-MODIFIED:20260102T191647Z
UID:2922-1769684400-1769693400@lakeshorechamber.com
SUMMARY:State of the City~Hammond- Luncheon\, Networking & Presentation
DESCRIPTION:Registration is required by January 23\, 2026
URL:https://lakeshorechamber.com/events/state-of-the-cityhammond-luncheon-networking-presentation/
LOCATION:Hammond Sportsplex\, 6630 Indianapolis Blvd\, Hammond\, 46320\, United States
END:VEVENT
BEGIN:VEVENT
DTSTART;TZID=UTC:20260212T130000
DTEND;TZID=UTC:20260212T170000
DTSTAMP:20260421T044625
CREATED:20260202T155214Z
LAST-MODIFIED:20260202T155214Z
UID:3163-1770901200-1770915600@lakeshorechamber.com
SUMMARY:Brew Box Grand Opening and Ribbon Cutting
DESCRIPTION:
URL:https://lakeshorechamber.com/events/brew-box-grand-opening-and-ribbon-cutting/
LOCATION:Brew Box\, 5231 Hohman Ave\, Hammond\, IN\, 46320\, United States
CATEGORIES:General Membership Breakfasts
ORGANIZER;CN="Lakeshore Chamber":MAILTO:lcc@lakeshorechamber.com
END:VEVENT
BEGIN:VEVENT
DTSTART;TZID=UTC:20260213T083000
DTEND;TZID=UTC:20260213T093000
DTSTAMP:20260421T044625
CREATED:20260113T221959Z
LAST-MODIFIED:20260113T221959Z
UID:3084-1770971400-1770975000@lakeshorechamber.com
SUMMARY:AIM Indiana to Speak on SEA1 Bill
DESCRIPTION:Please scan QR code to register for this event. \nLink:  Register here 
URL:https://lakeshorechamber.com/events/aim-indiana-to-speak-on-sea1-bill/
LOCATION:Dean and Barbara White Community Center\, 6600 Broadway\, Merrillville\, IN\, 46410\, United States
END:VEVENT
BEGIN:VEVENT
DTSTART;TZID=UTC:20260221T180000
DTEND;TZID=UTC:20260221T230000
DTSTAMP:20260421T044625
CREATED:20260202T211834Z
LAST-MODIFIED:20260202T211834Z
UID:3177-1771696800-1771714800@lakeshorechamber.com
SUMMARY:219 Day ~ 10 Year Region Reunion!
DESCRIPTION:
URL:https://lakeshorechamber.com/events/219-day-10-year-region-reunion/
LOCATION:Hammond Civic Center\, 5825 Sohl Avenue\, Hammond\, IN\, 46320\, United States
END:VEVENT
BEGIN:VEVENT
DTSTART;TZID=UTC:20260225T113000
DTEND;TZID=UTC:20260225T123000
DTSTAMP:20260421T044625
CREATED:20260210T220114Z
LAST-MODIFIED:20260210T220702Z
UID:3181-1772019000-1772022600@lakeshorechamber.com
SUMMARY:Small Business Networking Luncheon
DESCRIPTION:Register Now!  Seating is limited.
URL:https://lakeshorechamber.com/events/small-business-networking-luncheon/
LOCATION:Latin Lounge\, 1208 Carroll Street\, East Chicago\, 46312\, United States
END:VEVENT
BEGIN:VEVENT
DTSTART;TZID=UTC:20260317T100000
DTEND;TZID=UTC:20260317T120000
DTSTAMP:20260421T044625
CREATED:20260219T190210Z
LAST-MODIFIED:20260219T190210Z
UID:3264-1773741600-1773748800@lakeshorechamber.com
SUMMARY:Luck of the Irish ~ Scavenger Hunt
DESCRIPTION:Tuesday\, March 17\nStart at North Shore Health Centers\n                1828 E 165th Street\, Hammond\nEnd at Silver Birch of Hammond\n                5620 Sohl Avenue\, Hammond \nAwards Ceremony & Refreshments\nRSVP your spot today . . . call (219) 937-9085
URL:https://lakeshorechamber.com/events/luck-of-the-irish-scavenger-hunt/
LOCATION:Silver Birch of Hammond\, 5620 Sohl Avenue\, Hammond\, IN\, 46324\, United States
END:VEVENT
BEGIN:VEVENT
DTSTART;TZID=UTC:20260326T170000
DTEND;TZID=UTC:20260326T210000
DTSTAMP:20260421T044625
CREATED:20260213T175728Z
LAST-MODIFIED:20260318T175103Z
UID:3216-1774544400-1774558800@lakeshorechamber.com
SUMMARY:Lakeshore Chamber Annual Awards Dinner ~ March 26th
DESCRIPTION:      \nWe are Excited to return to the Horseshoe Casino\nfor our 116th Annual Dinner  on March 26th!!   Please Join Us.\n     \nForms to download: \n2026 Annual Dinner Advertising Form\nLongevity Award Nominee Form\nLittle Black Dress/Cocktail Attire\nMust be 21 to enter.  
URL:https://lakeshorechamber.com/events/lakeshore-chamber-annual-awards-dinner-march-26th/
LOCATION:Horseshoe Casino Hammond\, 777 Casino Center Drive\, Hammond\, IN\, 46320\, United States
END:VEVENT
BEGIN:VEVENT
DTSTART;VALUE=DATE:20260403
DTEND;VALUE=DATE:20260404
DTSTAMP:20260421T044625
CREATED:20260404T011407Z
LAST-MODIFIED:20260404T011407Z
UID:3359-1775174400-1775260799@lakeshorechamber.com
SUMMARY:Good Friday
DESCRIPTION:The Lakeshore Chamber Office will be closed.
URL:https://lakeshorechamber.com/events/good-friday/
END:VEVENT
BEGIN:VEVENT
DTSTART;TZID=UTC:20260507T110000
DTEND;TZID=UTC:20260507T133000
DTSTAMP:20260421T044625
CREATED:20260416T172709Z
LAST-MODIFIED:20260416T172709Z
UID:3388-1778151600-1778160600@lakeshorechamber.com
SUMMARY:Lakeshore Chamber Luncheon ~ Speaker Phil Taillon\, SSCVA
DESCRIPTION:  \n \n11:30-Noon ~ Check-in & Networking      \nNoon – 1:00 Lunch served during program\nTickets $35  members\,  $50 non-members\nSponsorships are available  \nRegistration is required by May 4th.  
URL:https://lakeshorechamber.com/events/lakeshore-chamber-luncheon-speaker-phil-taillon-sscva/
LOCATION:Indiana Welcome Center\, 7770 Corinne Drive\, Hammond\, 46323\, United States
END:VEVENT
BEGIN:VEVENT
DTSTART;TZID=UTC:20260624T103000
DTEND;TZID=UTC:20260624T200000
DTSTAMP:20260421T044625
CREATED:20260116T220415Z
LAST-MODIFIED:20260116T220415Z
UID:3114-1782297000-1782331200@lakeshorechamber.com
SUMMARY:Lakeshore Chamber 30th Annual Golf Classic
DESCRIPTION:Stay tuned. ..  more to come.  
URL:https://lakeshorechamber.com/events/lakeshore-chamber-30th-annual-golf-classic/
LOCATION:Lost Marsh Golf Course\, 1001 129th Street\, Hammond\, 46320\, United States
END:VEVENT
END:VCALENDAR