BEGIN:VCALENDAR
VERSION:2.0
PRODID:-//Lakeshore Chamber of Commerce | Hammond &amp; East Chicago - ECPv6.15.20//NONSGML v1.0//EN
CALSCALE:GREGORIAN
METHOD:PUBLISH
X-WR-CALNAME:Lakeshore Chamber of Commerce | Hammond &amp; East Chicago
X-ORIGINAL-URL:https://lakeshorechamber.com
X-WR-CALDESC:Events for Lakeshore Chamber of Commerce | Hammond &amp; East Chicago
REFRESH-INTERVAL;VALUE=DURATION:PT1H
X-Robots-Tag:noindex
X-PUBLISHED-TTL:PT1H
BEGIN:VTIMEZONE
TZID:UTC
BEGIN:STANDARD
TZOFFSETFROM:+0000
TZOFFSETTO:+0000
TZNAME:UTC
DTSTART:20250101T000000
END:STANDARD
END:VTIMEZONE
BEGIN:VEVENT
DTSTART;TZID=UTC:20260221T180000
DTEND;TZID=UTC:20260221T230000
DTSTAMP:20260420T092642
CREATED:20260202T211834Z
LAST-MODIFIED:20260202T211834Z
UID:3177-1771696800-1771714800@lakeshorechamber.com
SUMMARY:219 Day ~ 10 Year Region Reunion!
DESCRIPTION:
URL:https://lakeshorechamber.com/events/219-day-10-year-region-reunion/
LOCATION:Hammond Civic Center\, 5825 Sohl Avenue\, Hammond\, IN\, 46320\, United States
END:VEVENT
END:VCALENDAR