BEGIN:VCALENDAR
VERSION:2.0
PRODID:-//Lakeshore Chamber of Commerce | Hammond &amp; East Chicago - ECPv6.15.20//NONSGML v1.0//EN
CALSCALE:GREGORIAN
METHOD:PUBLISH
X-ORIGINAL-URL:https://lakeshorechamber.com
X-WR-CALDESC:Events for Lakeshore Chamber of Commerce | Hammond &amp; East Chicago
REFRESH-INTERVAL;VALUE=DURATION:PT1H
X-Robots-Tag:noindex
X-PUBLISHED-TTL:PT1H
BEGIN:VTIMEZONE
TZID:UTC
BEGIN:STANDARD
TZOFFSETFROM:+0000
TZOFFSETTO:+0000
TZNAME:UTC
DTSTART:20250101T000000
END:STANDARD
END:VTIMEZONE
BEGIN:VEVENT
DTSTART;TZID=UTC:20260213T083000
DTEND;TZID=UTC:20260213T093000
DTSTAMP:20260420T093256
CREATED:20260113T221959Z
LAST-MODIFIED:20260113T221959Z
UID:3084-1770971400-1770975000@lakeshorechamber.com
SUMMARY:AIM Indiana to Speak on SEA1 Bill
DESCRIPTION:Please scan QR code to register for this event. \nLink:  Register here 
URL:https://lakeshorechamber.com/events/aim-indiana-to-speak-on-sea1-bill/
LOCATION:Dean and Barbara White Community Center\, 6600 Broadway\, Merrillville\, IN\, 46410\, United States
END:VEVENT
END:VCALENDAR