BEGIN:VCALENDAR
VERSION:2.0
PRODID:-//Lakeshore Chamber of Commerce | Hammond &amp; East Chicago - ECPv6.15.20//NONSGML v1.0//EN
CALSCALE:GREGORIAN
METHOD:PUBLISH
X-ORIGINAL-URL:https://lakeshorechamber.com
X-WR-CALDESC:Events for Lakeshore Chamber of Commerce | Hammond &amp; East Chicago
REFRESH-INTERVAL;VALUE=DURATION:PT1H
X-Robots-Tag:noindex
X-PUBLISHED-TTL:PT1H
BEGIN:VTIMEZONE
TZID:UTC
BEGIN:STANDARD
TZOFFSETFROM:+0000
TZOFFSETTO:+0000
TZNAME:UTC
DTSTART:20250101T000000
END:STANDARD
END:VTIMEZONE
BEGIN:VEVENT
DTSTART;TZID=UTC:20260212T130000
DTEND;TZID=UTC:20260212T170000
DTSTAMP:20260420T093315
CREATED:20260202T155214Z
LAST-MODIFIED:20260202T155214Z
UID:3163-1770901200-1770915600@lakeshorechamber.com
SUMMARY:Brew Box Grand Opening and Ribbon Cutting
DESCRIPTION:
URL:https://lakeshorechamber.com/events/brew-box-grand-opening-and-ribbon-cutting/
LOCATION:Brew Box\, 5231 Hohman Ave\, Hammond\, IN\, 46320\, United States
CATEGORIES:General Membership Breakfasts
ORGANIZER;CN="Lakeshore Chamber":MAILTO:lcc@lakeshorechamber.com
END:VEVENT
END:VCALENDAR