BEGIN:VCALENDAR
VERSION:2.0
PRODID:-//Lakeshore Chamber of Commerce | Hammond &amp; East Chicago - ECPv6.15.20//NONSGML v1.0//EN
CALSCALE:GREGORIAN
METHOD:PUBLISH
X-WR-CALNAME:Lakeshore Chamber of Commerce | Hammond &amp; East Chicago
X-ORIGINAL-URL:https://lakeshorechamber.com
X-WR-CALDESC:Events for Lakeshore Chamber of Commerce | Hammond &amp; East Chicago
REFRESH-INTERVAL;VALUE=DURATION:PT1H
X-Robots-Tag:noindex
X-PUBLISHED-TTL:PT1H
BEGIN:VTIMEZONE
TZID:UTC
BEGIN:STANDARD
TZOFFSETFROM:+0000
TZOFFSETTO:+0000
TZNAME:UTC
DTSTART:20240101T000000
END:STANDARD
END:VTIMEZONE
BEGIN:VEVENT
DTSTART;TZID=UTC:20251206T100000
DTEND;TZID=UTC:20251206T100000
DTSTAMP:20260420T131001
CREATED:20251125T203606Z
LAST-MODIFIED:20251125T203606Z
UID:2842-1765015200-1765015200@lakeshorechamber.com
SUMMARY:Hammond Holiday Parade
DESCRIPTION:Parade begins at 10am at Gavit High School\nand ends at the Hammond Sportsplex
URL:https://lakeshorechamber.com/events/hammond-holiday-parade/
END:VEVENT
END:VCALENDAR