BEGIN:VCALENDAR
VERSION:2.0
PRODID:-//Lakeshore Chamber of Commerce | Hammond &amp; East Chicago - ECPv6.15.20//NONSGML v1.0//EN
CALSCALE:GREGORIAN
METHOD:PUBLISH
X-ORIGINAL-URL:https://lakeshorechamber.com
X-WR-CALDESC:Events for Lakeshore Chamber of Commerce | Hammond &amp; East Chicago
REFRESH-INTERVAL;VALUE=DURATION:PT1H
X-Robots-Tag:noindex
X-PUBLISHED-TTL:PT1H
BEGIN:VTIMEZONE
TZID:UTC
BEGIN:STANDARD
TZOFFSETFROM:+0000
TZOFFSETTO:+0000
TZNAME:UTC
DTSTART:20240101T000000
END:STANDARD
END:VTIMEZONE
BEGIN:VEVENT
DTSTART;TZID=UTC:20251018T180000
DTEND;TZID=UTC:20251018T220000
DTSTAMP:20260420T161211
CREATED:20250911T154041Z
LAST-MODIFIED:20250911T154041Z
UID:2778-1760810400-1760824800@lakeshorechamber.com
SUMMARY:Scaring is Caring Festival
DESCRIPTION:
URL:https://lakeshorechamber.com/events/scaring-is-caring-festival/
LOCATION:Club KI-Yowga Inc\, 5220 Indianapolis Blvd\, East Chicago\, 46312\, United States
END:VEVENT
END:VCALENDAR