BEGIN:VCALENDAR
VERSION:2.0
PRODID:-//Lakeshore Chamber of Commerce | Hammond &amp; East Chicago - ECPv6.15.20//NONSGML v1.0//EN
CALSCALE:GREGORIAN
METHOD:PUBLISH
X-ORIGINAL-URL:https://lakeshorechamber.com
X-WR-CALDESC:Events for Lakeshore Chamber of Commerce | Hammond &amp; East Chicago
REFRESH-INTERVAL;VALUE=DURATION:PT1H
X-Robots-Tag:noindex
X-PUBLISHED-TTL:PT1H
BEGIN:VTIMEZONE
TZID:UTC
BEGIN:STANDARD
TZOFFSETFROM:+0000
TZOFFSETTO:+0000
TZNAME:UTC
DTSTART:20240101T000000
END:STANDARD
END:VTIMEZONE
BEGIN:VEVENT
DTSTART;TZID=UTC:20251009T150000
DTEND;TZID=UTC:20251009T190000
DTSTAMP:20260420T161317
CREATED:20250909T190408Z
LAST-MODIFIED:20251007T180413Z
UID:2743-1760022000-1760036400@lakeshorechamber.com
SUMMARY:Lakeshore Live and Celebrity Game Show
DESCRIPTION:All tables are sold out!   \n\n\nEVENT SCHEDULE\n3:00- 5:00 Community Fest /Expo\n3:00- 6:00 Food Truck and Cash bar open\n5:00- 6:00 Celebrity Game Show\n6:00- 7:00 Networking
URL:https://lakeshorechamber.com/events/lakeshore-live-and-celebrity-game-show/
LOCATION:lake county convention & visitors authority\, 7770 Corinne Drive\, Hammond\, 46323\, United States
END:VEVENT
END:VCALENDAR