BEGIN:VCALENDAR
VERSION:2.0
PRODID:-//Lakeshore Chamber of Commerce | Hammond &amp; East Chicago - ECPv6.15.20//NONSGML v1.0//EN
CALSCALE:GREGORIAN
METHOD:PUBLISH
X-ORIGINAL-URL:https://lakeshorechamber.com
X-WR-CALDESC:Events for Lakeshore Chamber of Commerce | Hammond &amp; East Chicago
REFRESH-INTERVAL;VALUE=DURATION:PT1H
X-Robots-Tag:noindex
X-PUBLISHED-TTL:PT1H
BEGIN:VTIMEZONE
TZID:UTC
BEGIN:STANDARD
TZOFFSETFROM:+0000
TZOFFSETTO:+0000
TZNAME:UTC
DTSTART:20240101T000000
END:STANDARD
END:VTIMEZONE
BEGIN:VEVENT
DTSTART;TZID=UTC:20250604T160000
DTEND;TZID=UTC:20250604T190000
DTSTAMP:20260420T231433
CREATED:20250516T001207Z
LAST-MODIFIED:20250603T145201Z
UID:2421-1749052800-1749063600@lakeshorechamber.com
SUMMARY:Indiana & Illinois Manufacturing Networking
DESCRIPTION:   REGISTRATION  IS  CLOSED FOR  THIS  EVENT.
URL:https://lakeshorechamber.com/events/indiana-illinois-manufacturing-networking/
LOCATION:Emerald Green at Lost Marsh Golf Course\, 1001 129th St\, Hammond\, IN\, 46320\, United States
END:VEVENT
END:VCALENDAR