BEGIN:VCALENDAR
VERSION:2.0
PRODID:-//Lakeshore Chamber of Commerce | Hammond &amp; East Chicago - ECPv6.15.20//NONSGML v1.0//EN
CALSCALE:GREGORIAN
METHOD:PUBLISH
X-WR-CALNAME:Lakeshore Chamber of Commerce | Hammond &amp; East Chicago
X-ORIGINAL-URL:https://lakeshorechamber.com
X-WR-CALDESC:Events for Lakeshore Chamber of Commerce | Hammond &amp; East Chicago
REFRESH-INTERVAL;VALUE=DURATION:PT1H
X-Robots-Tag:noindex
X-PUBLISHED-TTL:PT1H
BEGIN:VTIMEZONE
TZID:UTC
BEGIN:STANDARD
TZOFFSETFROM:+0000
TZOFFSETTO:+0000
TZNAME:UTC
DTSTART:20230101T000000
END:STANDARD
END:VTIMEZONE
BEGIN:VEVENT
DTSTART;TZID=UTC:20241212T170000
DTEND;TZID=UTC:20241212T190000
DTSTAMP:20260421T100029
CREATED:20240919T161220Z
LAST-MODIFIED:20241115T162251Z
UID:1642-1734022800-1734030000@lakeshorechamber.com
SUMMARY:Chamber Member Christmas/Holiday Party
DESCRIPTION:Join us for a nice evening of appetizers\nand cocktails to celebrate the Holidays. 
URL:https://lakeshorechamber.com/events/chamber-member-christmas-holiday-party/
LOCATION:Freddy’s Steakhouse\, 6442 Kennedy Ave\, Hammond\, IN\, 46323\, United States
ORGANIZER;CN="Lakeshore Chamber":MAILTO:lcc@lakeshorechamber.com
END:VEVENT
END:VCALENDAR